BEGIN:VCALENDAR
VERSION:2.0
PRODID:-//217.160.0.177//NONSGML kigkonsult.se iCalcreator 2.20//
CALSCALE:GREGORIAN
METHOD:PUBLISH
X-WR-TIMEZONE:Europe/Berlin
BEGIN:VEVENT
UID:event301@Narrenzunft Schnecken Bettenhausen e. V.
DTSTAMP:20260421T154102Z
CATEGORIES:Dorfpokalturnier
DESCRIPTION:Dorfpokalturnier in Hopfau\nKategorie: Dorfpokalturnier\nICS-Li
 nk: https://www.schnecken-bettenhausen.de/index.php?option=com_jem&view=ev
 ent&id=301:2026-dorfpokalturnier-hopfau\n
DTSTART;TZID=Europe/Berlin:20260723T180000
DTEND;TZID=Europe/Berlin:20260726T170000
LOCATION:Hopfau
SUMMARY:Dorfpokalturnier in Hopfau
URL:https://www.schnecken-bettenhausen.de/index.php?option=com_jem&view=eve
 nt&id=301:2026-dorfpokalturnier-hopfau
END:VEVENT
END:VCALENDAR
