BEGIN:VCALENDAR
VERSION:2.0
PRODID:-//217.160.0.177//NONSGML kigkonsult.se iCalcreator 2.20//
CALSCALE:GREGORIAN
METHOD:PUBLISH
X-WR-TIMEZONE:Europe/Berlin
BEGIN:VEVENT
UID:event292@Narrenzunft Schnecken Bettenhausen e. V.
DTSTAMP:20260421T140225Z
CATEGORIES:Schlachtplatte
DESCRIPTION:Schlachtplatte im Narrenstüble der NZ Klein-Bayern Fluorn\nKate
 gorie: Schlachtplatte\nICS-Link: https://www.schnecken-bettenhausen.de/ind
 ex.php?option=com_jem&view=event&id=292:2026-schlachtplatte-narrenstueble-
 fluorn\n
DTSTART;TZID=Europe/Berlin:20261113T110000
DTEND;TZID=Europe/Berlin:20261114T140000
LOCATION:Fluorn
SUMMARY:Schlachtplatte im Narrenstüble der NZ Klein-Bayern Fluorn
URL:https://www.schnecken-bettenhausen.de/index.php?option=com_jem&view=eve
 nt&id=292:2026-schlachtplatte-narrenstueble-fluorn
END:VEVENT
BEGIN:VEVENT
UID:event75@Narrenzunft Schnecken Bettenhausen e. V.
DTSTAMP:20260421T140225Z
CATEGORIES:Waldgautreffen
DESCRIPTION:Waldgautreffen: 75 Jahre NZ Fluorn\nKategorie: Waldgautreffen\n
 ICS-Link: https://www.schnecken-bettenhausen.de/index.php?option=com_jem&v
 iew=event&id=75:2028-waldgautreffen-75-jahre-nz-fluorn\n
DTSTART;VALUE=DATE:20280114
DTEND;VALUE=DATE:20280117
LOCATION:Fluorn
SUMMARY:Waldgautreffen: 75 Jahre NZ Fluorn
URL:https://www.schnecken-bettenhausen.de/index.php?option=com_jem&view=eve
 nt&id=75:2028-waldgautreffen-75-jahre-nz-fluorn
END:VEVENT
END:VCALENDAR
