BEGIN:VCALENDAR
VERSION:2.0
PRODID:-//217.160.0.177//NONSGML kigkonsult.se iCalcreator 2.20//
CALSCALE:GREGORIAN
METHOD:PUBLISH
X-WR-TIMEZONE:Europe/Berlin
BEGIN:VEVENT
UID:event275@Narrenzunft Schnecken Bettenhausen e. V.
DTSTAMP:20260421T140210Z
CATEGORIES:Arbeitsdienst
DESCRIPTION:Arbeitsdienst bei den Wanderfreunden „Queenspark“\nKategorie: A
 rbeitsdienst\nICS-Link: https://www.schnecken-bettenhausen.de/index.php?op
 tion=com_jem&view=event&id=275:2026-arbeitsdienst-queenspark-brachfeld\n
DTSTART;TZID=Europe/Berlin:20260823T141500
DTEND;TZID=Europe/Berlin:20260823T235500
LOCATION:Brachfeld
SUMMARY:Arbeitsdienst bei den Wanderfreunden „Queenspark“
URL:https://www.schnecken-bettenhausen.de/index.php?option=com_jem&view=eve
 nt&id=275:2026-arbeitsdienst-queenspark-brachfeld
END:VEVENT
END:VCALENDAR
