BEGIN:VCALENDAR
VERSION:2.0
PRODID:-//217.160.0.177//NONSGML kigkonsult.se iCalcreator 2.20//
CALSCALE:GREGORIAN
METHOD:PUBLISH
X-WR-TIMEZONE:Europe/Berlin
BEGIN:VEVENT
UID:event270@Narrenzunft Schnecken Bettenhausen e. V.
DTSTAMP:20260421T140235Z
CATEGORIES:Waldgautreffen
DESCRIPTION:Waldgaukameradschaftstreffen\nKategorie: Waldgautreffen\nICS-Li
 nk: https://www.schnecken-bettenhausen.de/index.php?option=com_jem&view=ev
 ent&id=270:2026-waldgaukameradschaftstreffen-dornhan\n
DTSTART;TZID=Europe/Berlin:20260530T153000
DTEND;TZID=Europe/Berlin:20260530T200000
LOCATION:Dornhan
SUMMARY:Waldgaukameradschaftstreffen
URL:https://www.schnecken-bettenhausen.de/index.php?option=com_jem&view=eve
 nt&id=270:2026-waldgaukameradschaftstreffen-dornhan
END:VEVENT
BEGIN:VEVENT
UID:event291@Narrenzunft Schnecken Bettenhausen e. V.
DTSTAMP:20260421T140235Z
CATEGORIES:Schlachtplatte
DESCRIPTION:Schlachtplatte im Narrenstüble der NZ Dornhan\nKategorie: Schla
 chtplatte\nICS-Link: https://www.schnecken-bettenhausen.de/index.php?optio
 n=com_jem&view=event&id=291:2026-schlachtplatte-narrenstueble-dornhan\n
DTSTART;TZID=Europe/Berlin:20261023T183000
DTEND;TZID=Europe/Berlin:20261024T210000
LOCATION:Dornhan
SUMMARY:Schlachtplatte im Narrenstüble der NZ Dornhan
URL:https://www.schnecken-bettenhausen.de/index.php?option=com_jem&view=eve
 nt&id=291:2026-schlachtplatte-narrenstueble-dornhan
END:VEVENT
BEGIN:VEVENT
UID:event268@Narrenzunft Schnecken Bettenhausen e. V.
DTSTAMP:20260421T140235Z
CATEGORIES:Waldgautagung
DESCRIPTION:Waldgauherbsttagung\nKategorie: Waldgautagung\nICS-Link: https:
 //www.schnecken-bettenhausen.de/index.php?option=com_jem&view=event&id=268
 :2026-waldgauherbsttagung\n
DTSTART;TZID=Europe/Berlin:20261030T193000
DTEND;TZID=Europe/Berlin:20261030T220000
LOCATION:Dornhan
SUMMARY:Waldgauherbsttagung
URL:https://www.schnecken-bettenhausen.de/index.php?option=com_jem&view=eve
 nt&id=268:2026-waldgauherbsttagung
END:VEVENT
BEGIN:VEVENT
UID:event278@Narrenzunft Schnecken Bettenhausen e. V.
DTSTAMP:20260421T140235Z
CATEGORIES:Umzug
DESCRIPTION:Fasnetsmontagsumzug\nKategorie: Umzug\nICS-Link: https://www.sc
 hnecken-bettenhausen.de/index.php?option=com_jem&view=event&id=278:2027-um
 zug-rosenmontag-dornhan\n
DTSTART;TZID=Europe/Berlin:20270208T133000
DTEND;TZID=Europe/Berlin:20270208T163000
LOCATION:Dornhan
SUMMARY:Fasnetsmontagsumzug
URL:https://www.schnecken-bettenhausen.de/index.php?option=com_jem&view=eve
 nt&id=278:2027-umzug-rosenmontag-dornhan
END:VEVENT
BEGIN:VEVENT
UID:event259@Narrenzunft Schnecken Bettenhausen e. V.
DTSTAMP:20260421T140235Z
CATEGORIES:Veranstaltung
DESCRIPTION:Stadtfest\nKategorie: Veranstaltung\nICS-Link: https://www.schn
 ecken-bettenhausen.de/index.php?option=com_jem&view=event&id=259:2027-stad
 tfest-dornhan\n
DTSTART;VALUE=DATE:20270625
DTEND;VALUE=DATE:20270629
LOCATION:Dornhan
SUMMARY:Stadtfest
URL:https://www.schnecken-bettenhausen.de/index.php?option=com_jem&view=eve
 nt&id=259:2027-stadtfest-dornhan
END:VEVENT
END:VCALENDAR
