BEGIN:VCALENDAR
VERSION:2.0
PRODID:-//217.160.0.177//NONSGML kigkonsult.se iCalcreator 2.20//
CALSCALE:GREGORIAN
METHOD:PUBLISH
X-WR-TIMEZONE:Europe/Berlin
BEGIN:VEVENT
UID:event279@Narrenzunft Schnecken Bettenhausen e. V.
DTSTAMP:20260421T135612Z
CATEGORIES:Umzug
DESCRIPTION:Umzug zum 60-jährigen Geburtstagsfest\nKategorie: Umzug\nICS-Li
 nk: https://www.schnecken-bettenhausen.de/index.php?option=com_jem&view=ev
 ent&id=279:2027-umzug-seelbach\n
DTSTART;TZID=Europe/Berlin:20270131T133000
DTEND;TZID=Europe/Berlin:20270131T170000
LOCATION:Seelbach
SUMMARY:Umzug zum 60-jährigen Geburtstagsfest
URL:https://www.schnecken-bettenhausen.de/index.php?option=com_jem&view=eve
 nt&id=279:2027-umzug-seelbach
END:VEVENT
END:VCALENDAR
