BEGIN:VCALENDAR
VERSION:2.0
PRODID:-//217.160.0.177//NONSGML kigkonsult.se iCalcreator 2.20//
CALSCALE:GREGORIAN
METHOD:PUBLISH
X-WR-TIMEZONE:Europe/Berlin
BEGIN:VEVENT
UID:event76@Narrenzunft Schnecken Bettenhausen e. V.
DTSTAMP:20260423T102827Z
CATEGORIES:Waldgautreffen
DESCRIPTION:Waldgautreffen: 60 Jahre Hagen-Henker Zunft Beffendorf\nKategor
 ie: Waldgautreffen\nICS-Link: https://www.schnecken-bettenhausen.de/index.
 php?option=com_jem&view=event&id=76:2029-waldgautreffen-beffendorf\n
DTSTART;VALUE=DATE:20290112
DTEND;VALUE=DATE:20290115
LOCATION:Beffendorf
SUMMARY:Waldgautreffen: 60 Jahre Hagen-Henker Zunft Beffendorf
URL:https://www.schnecken-bettenhausen.de/index.php?option=com_jem&view=eve
 nt&id=76:2029-waldgautreffen-beffendorf
END:VEVENT
END:VCALENDAR
