BEGIN:VCALENDAR
VERSION:2.0
PRODID:-//217.160.0.177//NONSGML kigkonsult.se iCalcreator 2.20//
CALSCALE:GREGORIAN
METHOD:PUBLISH
X-WR-TIMEZONE:Europe/Berlin
BEGIN:VEVENT
UID:event300@Narrenzunft Schnecken Bettenhausen e. V.
DTSTAMP:20260421T153218Z
CATEGORIES:Dorfpokalturnier
DESCRIPTION:Dorfpokalturnier in Leinstetten\nKategorie: Dorfpokalturnier\nI
 CS-Link: https://www.schnecken-bettenhausen.de/index.php?option=com_jem&vi
 ew=event&id=300:2026-dorfpokalturnier-leinstetten\n
DTSTART;TZID=Europe/Berlin:20260613T180000
DTEND;TZID=Europe/Berlin:20260614T213000
LOCATION:Leinstetten
SUMMARY:Dorfpokalturnier in Leinstetten
URL:https://www.schnecken-bettenhausen.de/index.php?option=com_jem&view=eve
 nt&id=300:2026-dorfpokalturnier-leinstetten
END:VEVENT
END:VCALENDAR
