BEGIN:VCALENDAR
VERSION:2.0
PRODID:-//217.160.0.177//NONSGML kigkonsult.se iCalcreator 2.20//
CALSCALE:GREGORIAN
METHOD:PUBLISH
X-WR-TIMEZONE:Europe/Berlin
BEGIN:VEVENT
UID:event299@Narrenzunft Schnecken Bettenhausen e. V.
DTSTAMP:20260421T135904Z
CATEGORIES:Umzug
DESCRIPTION:Umzug\nKategorie: Umzug\nICS-Link: https://www.schnecken-betten
 hausen.de/index.php?option=com_jem&view=event&id=299:2027-umzug-wurmlingen
 \n
DTSTART;TZID=Europe/Berlin:20270206T140000
DTEND;TZID=Europe/Berlin:20270206T170000
LOCATION:Wurmlingen
SUMMARY:Umzug
URL:https://www.schnecken-bettenhausen.de/index.php?option=com_jem&view=eve
 nt&id=299:2027-umzug-wurmlingen
END:VEVENT
END:VCALENDAR
