BEGIN:VCALENDAR
VERSION:2.0
PRODID:-//217.160.0.177//NONSGML kigkonsult.se iCalcreator 2.20//
CALSCALE:GREGORIAN
METHOD:PUBLISH
X-WR-TIMEZONE:Europe/Berlin
BEGIN:VEVENT
UID:event297@Narrenzunft Schnecken Bettenhausen e. V.
DTSTAMP:20260421T140130Z
CATEGORIES:Stammtisch
DESCRIPTION:1. Fasnetsbesprechung\nKategorie: Stammtisch\nICS-Link: https:/
 /www.schnecken-bettenhausen.de/index.php?option=com_jem&view=event&id=297:
 2026-stammtisch1-narrenstueble-bettenhausen\n
DTSTART;TZID=Europe/Berlin:20261001T193000
DTEND;TZID=Europe/Berlin:20261001T213000
LOCATION:Narrenstüble Bettenhausen\,Werkstr. 3\,72175 Dornhan-Bettenhausen
SUMMARY:1. Fasnetsbesprechung
URL:https://www.schnecken-bettenhausen.de/index.php?option=com_jem&view=eve
 nt&id=297:2026-stammtisch1-narrenstueble-bettenhausen
END:VEVENT
END:VCALENDAR
