BEGIN:VCALENDAR
VERSION:2.0
PRODID:-//217.160.0.177//NONSGML kigkonsult.se iCalcreator 2.20//
CALSCALE:GREGORIAN
METHOD:PUBLISH
X-WR-TIMEZONE:Europe/Berlin
BEGIN:VEVENT
UID:event286@Narrenzunft Schnecken Bettenhausen e. V.
DTSTAMP:20260421T153543Z
CATEGORIES:Umzug
DESCRIPTION:Fleggafasnet mit kleinem Umzug\nKategorie: Umzug\nICS-Link: htt
 ps://www.schnecken-bettenhausen.de/index.php?option=com_jem&view=event&id=
 286:2027-fleggafasnet-bettenhausen\n
DTSTART;TZID=Europe/Berlin:20270209T140000
DTEND;TZID=Europe/Berlin:20270209T184500
LOCATION:Bettenhausen
SUMMARY:Fleggafasnet mit kleinem Umzug
URL:https://www.schnecken-bettenhausen.de/index.php?option=com_jem&view=eve
 nt&id=286:2027-fleggafasnet-bettenhausen
END:VEVENT
END:VCALENDAR
