BEGIN:VCALENDAR
VERSION:2.0
PRODID:-//217.160.0.177//NONSGML kigkonsult.se iCalcreator 2.20//
CALSCALE:GREGORIAN
METHOD:PUBLISH
X-WR-TIMEZONE:Europe/Berlin
BEGIN:VEVENT
UID:event284@Narrenzunft Schnecken Bettenhausen e. V.
DTSTAMP:20260421T153459Z
CATEGORIES:Umzug
DESCRIPTION:Proklamation und Narrenbaumstellen\nKategorie: Umzug\nICS-Link:
  https://www.schnecken-bettenhausen.de/index.php?option=com_jem&view=event
 &id=284:2027-proklamation-leinstetten\n
DTSTART;TZID=Europe/Berlin:20270204T190000
DTEND;TZID=Europe/Berlin:20270204T234500
LOCATION:Leinstetten
SUMMARY:Proklamation und Narrenbaumstellen
URL:https://www.schnecken-bettenhausen.de/index.php?option=com_jem&view=eve
 nt&id=284:2027-proklamation-leinstetten
END:VEVENT
END:VCALENDAR
