BEGIN:VCALENDAR
VERSION:2.0
PRODID:-//217.160.0.177//NONSGML kigkonsult.se iCalcreator 2.20//
CALSCALE:GREGORIAN
METHOD:PUBLISH
X-WR-TIMEZONE:Europe/Berlin
BEGIN:VEVENT
UID:event283@Narrenzunft Schnecken Bettenhausen e. V.
DTSTAMP:20260421T153943Z
CATEGORIES:Sonstiges
DESCRIPTION:Hauptprobe für den Schneckenball\nKategorie: Sonstiges\nICS-Lin
 k: https://www.schnecken-bettenhausen.de/index.php?option=com_jem&view=eve
 nt&id=283:2027-hauptprobe-schulsaal-bettenhausen\n
DTSTART;TZID=Europe/Berlin:20270129T190000
DTEND;TZID=Europe/Berlin:20270129T211500
LOCATION:Schulsaal Bettenhausen\,Werkstr. 3\,72175 Dornhan-Bettenhausen
SUMMARY:Hauptprobe für den Schneckenball
URL:https://www.schnecken-bettenhausen.de/index.php?option=com_jem&view=eve
 nt&id=283:2027-hauptprobe-schulsaal-bettenhausen
END:VEVENT
END:VCALENDAR
