BEGIN:VCALENDAR
VERSION:2.0
PRODID:-//217.160.0.177//NONSGML kigkonsult.se iCalcreator 2.20//
CALSCALE:GREGORIAN
METHOD:PUBLISH
X-WR-TIMEZONE:Europe/Berlin
BEGIN:VEVENT
UID:event281@Narrenzunft Schnecken Bettenhausen e. V.
DTSTAMP:20260421T135855Z
CATEGORIES:Kleidung
DESCRIPTION:Häsausgabe\nKategorie: Kleidung\nICS-Link: https://www.schnecke
 n-bettenhausen.de/index.php?option=com_jem&view=event&id=281:2027-haesausg
 abe-narrenstueble\n
DTSTART;TZID=Europe/Berlin:20270102T160000
DTEND;TZID=Europe/Berlin:20270102T170000
LOCATION:Narrenstüble Bettenhausen\,Werkstr. 3\,72175 Dornhan-Bettenhausen
SUMMARY:Häsausgabe
URL:https://www.schnecken-bettenhausen.de/index.php?option=com_jem&view=eve
 nt&id=281:2027-haesausgabe-narrenstueble
END:VEVENT
END:VCALENDAR
