BEGIN:VCALENDAR
VERSION:2.0
PRODID:-//217.160.0.177//NONSGML kigkonsult.se iCalcreator 2.20//
CALSCALE:GREGORIAN
METHOD:PUBLISH
X-WR-TIMEZONE:Europe/Berlin
BEGIN:VEVENT
UID:event280@Narrenzunft Schnecken Bettenhausen e. V.
DTSTAMP:20260421T153933Z
CATEGORIES:Schlachtplatte
DESCRIPTION:Kirbe\nKategorie: Schlachtplatte\nICS-Link: https://www.schneck
 en-bettenhausen.de/index.php?option=com_jem&view=event&id=280:2026-kirbe-s
 chulsaal-bettenhausen\n
DTSTART;TZID=Europe/Berlin:20261018T110000
DTEND;TZID=Europe/Berlin:20261018T163000
LOCATION:Schulsaal Bettenhausen\,Werkstr. 3\,72175 Dornhan-Bettenhausen
SUMMARY:Kirbe
URL:https://www.schnecken-bettenhausen.de/index.php?option=com_jem&view=eve
 nt&id=280:2026-kirbe-schulsaal-bettenhausen
END:VEVENT
END:VCALENDAR
