BEGIN:VCALENDAR
VERSION:2.0
PRODID:-//217.160.0.177//NONSGML kigkonsult.se iCalcreator 2.20//
CALSCALE:GREGORIAN
METHOD:PUBLISH
X-WR-TIMEZONE:Europe/Berlin
BEGIN:VEVENT
UID:event270@Narrenzunft Schnecken Bettenhausen e. V.
DTSTAMP:20260421T153835Z
CATEGORIES:Waldgautreffen
DESCRIPTION:Waldgaukameradschaftstreffen\nKategorie: Waldgautreffen\nICS-Li
 nk: https://www.schnecken-bettenhausen.de/index.php?option=com_jem&view=ev
 ent&id=270:2026-waldgaukameradschaftstreffen-dornhan\n
DTSTART;TZID=Europe/Berlin:20260530T153000
DTEND;TZID=Europe/Berlin:20260530T200000
LOCATION:Dornhan
SUMMARY:Waldgaukameradschaftstreffen
URL:https://www.schnecken-bettenhausen.de/index.php?option=com_jem&view=eve
 nt&id=270:2026-waldgaukameradschaftstreffen-dornhan
END:VEVENT
END:VCALENDAR
