BEGIN:VCALENDAR
VERSION:2.0
PRODID:-//217.160.0.177//NONSGML kigkonsult.se iCalcreator 2.20//
CALSCALE:GREGORIAN
METHOD:PUBLISH
X-WR-TIMEZONE:Europe/Berlin
BEGIN:VEVENT
UID:event252@Narrenzunft Schnecken Bettenhausen e. V.
DTSTAMP:20260421T170754Z
CATEGORIES:Sonstiges
DESCRIPTION:Maiwanderung\nKategorie: Sonstiges\nICS-Link: https://www.schne
 cken-bettenhausen.de/index.php?option=com_jem&view=event&id=252:2026-maiwa
 nderung\n
DTSTART;TZID=Europe/Berlin:20260501T093000
DTEND;TZID=Europe/Berlin:20260501T170000
LOCATION:Schulhof Bettenhausen\,Dornhan-Bettenhausen
SUMMARY:Maiwanderung
URL:https://www.schnecken-bettenhausen.de/index.php?option=com_jem&view=eve
 nt&id=252:2026-maiwanderung
END:VEVENT
END:VCALENDAR
