BEGIN:VCALENDAR
VERSION:2.0
PRODID:-//217.160.0.177//NONSGML kigkonsult.se iCalcreator 2.20//
CALSCALE:GREGORIAN
METHOD:PUBLISH
X-WR-TIMEZONE:Europe/Berlin
BEGIN:VEVENT
UID:event201@Narrenzunft Schnecken Bettenhausen e. V.
DTSTAMP:20260421T154257Z
CATEGORIES:Umzug
DESCRIPTION:Sulzer Narrentag der NG Glatt mit NZ Sulz\nKategorie: Umzug\nIC
 S-Link: https://www.schnecken-bettenhausen.de/index.php?option=com_jem&vie
 w=event&id=201:2027-sulzer-narrentag-glatt\n
DTSTART;VALUE=DATE:20270108
DTEND;VALUE=DATE:20270110
LOCATION:Glatt
SUMMARY:Sulzer Narrentag der NG Glatt mit NZ Sulz
URL:https://www.schnecken-bettenhausen.de/index.php?option=com_jem&view=eve
 nt&id=201:2027-sulzer-narrentag-glatt
END:VEVENT
END:VCALENDAR
