BEGIN:VCALENDAR
VERSION:2.0
PRODID:-//217.160.0.177//NONSGML kigkonsult.se iCalcreator 2.20//
CALSCALE:GREGORIAN
METHOD:PUBLISH
X-WR-TIMEZONE:Europe/Berlin
BEGIN:VEVENT
UID:event120@Narrenzunft Schnecken Bettenhausen e. V.
DTSTAMP:20260421T170611Z
CATEGORIES:Waldgautreffen
DESCRIPTION:Waldgautreffen: 50 Jahre Narrengilde Glatt\nKategorie: Waldgaut
 reffen\nICS-Link: https://www.schnecken-bettenhausen.de/index.php?option=c
 om_jem&view=event&id=120:2030-waldgautreffen-50-jahre-ng-glatt\n
DTSTART;VALUE=DATE:20300201
DTEND;VALUE=DATE:20300204
LOCATION:Glatt
SUMMARY:Waldgautreffen: 50 Jahre Narrengilde Glatt
URL:https://www.schnecken-bettenhausen.de/index.php?option=com_jem&view=eve
 nt&id=120:2030-waldgautreffen-50-jahre-ng-glatt
END:VEVENT
END:VCALENDAR
