BEGIN:VCALENDAR
VERSION:2.0
PRODID:-//217.160.0.177//NONSGML kigkonsult.se iCalcreator 2.20//
CALSCALE:GREGORIAN
METHOD:PUBLISH
X-WR-TIMEZONE:Europe/Berlin
BEGIN:VEVENT
UID:event295@Narrenzunft Schnecken Bettenhausen e. V.
DTSTAMP:20260421T170612Z
CATEGORIES:Veranstaltung
DESCRIPTION:Grillfest auf dem Schuppis\nKategorie: Veranstaltung\nICS-Link:
  https://www.schnecken-bettenhausen.de/index.php?option=com_jem&view=event
 &id=295:grillfest-schuppis-bettenhausen\n
DTSTART;TZID=Europe/Berlin:20260717T170000
DTEND;TZID=Europe/Berlin:20260717T223000
LOCATION:Bettenhausen
SUMMARY:Grillfest auf dem Schuppis
URL:https://www.schnecken-bettenhausen.de/index.php?option=com_jem&view=eve
 nt&id=295:grillfest-schuppis-bettenhausen
END:VEVENT
BEGIN:VEVENT
UID:event298@Narrenzunft Schnecken Bettenhausen e. V.
DTSTAMP:20260421T170612Z
CATEGORIES:Veranstaltung
DESCRIPTION:Abfahrt zum Kinobesuch im Subiaco und anschl. Abendessen\nKateg
 orie: Veranstaltung\nICS-Link: https://www.schnecken-bettenhausen.de/index
 .php?option=com_jem&view=event&id=298:2026-kinobesuch-subiaco-alpirsbach\n
DTSTART;TZID=Europe/Berlin:20261107T151500
DTEND;TZID=Europe/Berlin:20261107T210000
LOCATION:Alpirsbach
SUMMARY:Abfahrt zum Kinobesuch im Subiaco und anschl. Abendessen
URL:https://www.schnecken-bettenhausen.de/index.php?option=com_jem&view=eve
 nt&id=298:2026-kinobesuch-subiaco-alpirsbach
END:VEVENT
BEGIN:VEVENT
UID:event282@Narrenzunft Schnecken Bettenhausen e. V.
DTSTAMP:20260421T170612Z
CATEGORIES:Veranstaltung
DESCRIPTION:Fasnetseröffnung mit traditionellem Masken abstauben\nKategorie
 : Veranstaltung\nICS-Link: https://www.schnecken-bettenhausen.de/index.php
 ?option=com_jem&view=event&id=282:2027-fasnetseroeffnung-narrenstueble-bet
 tenhausen\n
DTSTART;TZID=Europe/Berlin:20270105T180000
DTEND;TZID=Europe/Berlin:20270105T230000
LOCATION:Bettenhausen
SUMMARY:Fasnetseröffnung mit traditionellem Masken abstauben
URL:https://www.schnecken-bettenhausen.de/index.php?option=com_jem&view=eve
 nt&id=282:2027-fasnetseroeffnung-narrenstueble-bettenhausen
END:VEVENT
BEGIN:VEVENT
UID:event285@Narrenzunft Schnecken Bettenhausen e. V.
DTSTAMP:20260421T170612Z
CATEGORIES:Veranstaltung
DESCRIPTION:Schneckenball\nKategorie: Veranstaltung\nICS-Link: https://www.
 schnecken-bettenhausen.de/index.php?option=com_jem&view=event&id=285:2027-
 schneckenball-schulsaal-bettenhausen\n
DTSTART;TZID=Europe/Berlin:20270207T200200
DTEND;TZID=Europe/Berlin:20270207T235500
LOCATION:Schulsaal Bettenhausen\,Werkstr. 3\,72175 Dornhan-Bettenhausen
SUMMARY:Schneckenball
URL:https://www.schnecken-bettenhausen.de/index.php?option=com_jem&view=eve
 nt&id=285:2027-schneckenball-schulsaal-bettenhausen
END:VEVENT
BEGIN:VEVENT
UID:event287@Narrenzunft Schnecken Bettenhausen e. V.
DTSTAMP:20260421T170612Z
CATEGORIES:Veranstaltung
DESCRIPTION:Fasnetsverbrennen\nKategorie: Veranstaltung\nICS-Link: https://
 www.schnecken-bettenhausen.de/index.php?option=com_jem&view=event&id=287:2
 027-fasnetsverbrennen-schulhof-bettenhausen\n
DTSTART;TZID=Europe/Berlin:20270209T190000
DTEND;TZID=Europe/Berlin:20270209T193000
LOCATION:Schulhof Bettenhausen\,Dornhan-Bettenhausen
SUMMARY:Fasnetsverbrennen
URL:https://www.schnecken-bettenhausen.de/index.php?option=com_jem&view=eve
 nt&id=287:2027-fasnetsverbrennen-schulhof-bettenhausen
END:VEVENT
BEGIN:VEVENT
UID:event288@Narrenzunft Schnecken Bettenhausen e. V.
DTSTAMP:20260421T170612Z
CATEGORIES:Veranstaltung
DESCRIPTION:Mitgliederversammlung\nKategorie: Veranstaltung\nICS-Link: http
 s://www.schnecken-bettenhausen.de/index.php?option=com_jem&view=event&id=2
 88:2027-mitgliederversammlung\n
DTSTART;TZID=Europe/Berlin:20270409T200000
DTEND;TZID=Europe/Berlin:20270409T213000
LOCATION:Gasthaus Adlerstube Bettenhausen\,Dornhaner Str. 14\,72175 Dornhan
 -Bettenhausen
SUMMARY:Mitgliederversammlung
URL:https://www.schnecken-bettenhausen.de/index.php?option=com_jem&view=eve
 nt&id=288:2027-mitgliederversammlung
END:VEVENT
BEGIN:VEVENT
UID:event259@Narrenzunft Schnecken Bettenhausen e. V.
DTSTAMP:20260421T170612Z
CATEGORIES:Veranstaltung
DESCRIPTION:Stadtfest\nKategorie: Veranstaltung\nICS-Link: https://www.schn
 ecken-bettenhausen.de/index.php?option=com_jem&view=event&id=259:2027-stad
 tfest-dornhan\n
DTSTART;VALUE=DATE:20270625
DTEND;VALUE=DATE:20270629
LOCATION:Dornhan
SUMMARY:Stadtfest
URL:https://www.schnecken-bettenhausen.de/index.php?option=com_jem&view=eve
 nt&id=259:2027-stadtfest-dornhan
END:VEVENT
END:VCALENDAR
